Workbook
Name FS: list!$E$2:$E$11
Name GR: list!$F$2:$F$11

Sheet 様式1
A1: 申込責任者
A2: ※選考会に関して、必ず連絡の取れる方を入力ください。
A3: No. | B3: 都道府県 | C3: 氏名（漢字） | E3: フリガナ（全角カタカナ） | G3: 緊急連絡先 （半角数字、- ハイフンなし）
B4: （リスト選択） | C4: 氏 | D4: 名 | E4: シ | F4: メイ
A5: =IF(B5="","",INDEX(list!$G$2:$G$9,MATCH(B5,list!$H$2:$H$9,0)))
A7: 引率審判員
A8: ※各都県から審判員のご協力をお願いいたします。
A9: この欄には研修に引率される（研修会に申し込んだ）方を入力してください。
A10: 帯同審判員については、後日、本部より依頼させていただきます。
A11: No. | B11: 都道府県 | C11: 氏 | D11: 名 | E11: シ | F11: メイ | G11: 所属またはクラブ名
A12: 1 | B12: =$B$5 -> 0
A13: 2 | B13: =$B$5 -> 0 | E13: =PHONETIC(C13) | F13: =PHONETIC(D13)
A14: 3 | B14: =$B$5 -> 0 | E14: =PHONETIC(C14) | F14: =PHONETIC(D14)
A15: 4 | B15: =$B$5 -> 0 | E15: =PHONETIC(C15) | F15: =PHONETIC(D15)
A16: 5 | B16: =$B$5 -> 0 | E16: =PHONETIC(C16) | F16: =PHONETIC(D16)
A17: 6 | B17: =$B$5 -> 0 | E17: =PHONETIC(C17) | F17: =PHONETIC(D17)
A18: 7 | B18: =$B$5 -> 0 | E18: =PHONETIC(C18) | F18: =PHONETIC(D18)
A19: 8 | B19: =$B$5 -> 0 | E19: =PHONETIC(C19) | F19: =PHONETIC(D19)
A20: 9 | B20: =$B$5 -> 0 | E20: =PHONETIC(C20) | F20: =PHONETIC(D20)
A21: 10 | B21: =$B$5 -> 0 | E21: =PHONETIC(C21) | F21: =PHONETIC(D21)
A23: 参加料
D25: U15 | E25: U17 | F25: U20
C26: 人数 | D26: =COUNTA('様式2（U15申込書）'!F6:F35) -> 0 | E26: =COUNTA('様式3（U17申込書）'!F6:F35) -> 0 | F26: =COUNTA('様式4（U20申込書）'!F6:F35) -> 0
E27: 計 | F27: =SUM(D26:F26) -> 0
C29: 参加料計 | D29: =F27*6000 -> 0
C31: 領収証の発行について | F31: (選択）
B32: ※締切り：11月11日（水）厳守
B33: 振込先： | C33: 横浜銀行 久里浜支店
B34: 預金種別： | C34: 普通 6 1 5 4 9 0 2
B35: 口座名義： | C35: 神奈川県レスリング協会 大会事務局 代表 長谷川 卓
C36: ｶﾅｶﾞﾜｹﾝﾚｽﾘﾝｸﾞｷｮｳｶｲ ﾀｲｶｲｼﾞﾑｷｮｸ ﾀﾞｲﾋｮｳ ﾊｾｶﾞﾜ ｽｸﾞﾙ

Sheet 様式2（U15申込書）
A1: 2026年度 NTS関東地区選手権 参加申込書（U15）
S2: 75kg級 | T2: 92kg級 | U2: 97kg級 | V2: 97kg級 | AG2: 9月 | AH2: 9日 | AJ2: 全中大会3位
A3: ※ 選考会のみの参加は可能です。 | S3: 85kg級 | T3: 110kg級 | U3: 125kg級 | V3: 130kg級 | AG3: 10月 | AH3: 10日 | AJ3: 全中大会ベスト８
A4: No. | B4: 都道府県 | C4: カテゴリー | D4: スタイル | E4: 階級 | F4: 氏名（漢字） | H4: フリガナ（全角カタカナ） | J4: 所属またはクラブ名 | L4: 学年 | M4: 生年月日 | P4: 日本協会登録番号 | AG4: 11月 | AH4: 11日 | AJ4: 都知事杯1位
D5: （リスト選択） | E5: （リスト選択） | F5: 氏 | G5: 名 | H5: シ | I5: メイ | L5: （リスト選択） | M5: （リスト選択） | P5: JWF26 | Q5: - | R5: 入力（5桁） | AH5: 13日 | AJ5: 都知事杯3位
A6: 1 | B6: =様式1!$B$5 -> 0 | C6: U15 | P6: JWF26 | Q6: - | AH6: 14日 | AJ6: 都知事杯4位
A7: 2 | B7: =様式1!$B$5 -> 0 | C7: U15 | H7: =PHONETIC(F7) | I7: =PHONETIC(G7) | P7: JWF26 | Q7: - | AH7: 15日 | AJ7: 都知事杯ベスト8
A8: 3 | B8: =様式1!$B$5 -> 0 | C8: U15 | H8: =PHONETIC(F8) | I8: =PHONETIC(G8) | P8: JWF26 | Q8: - | AH8: 16日
A9: 4 | B9: =様式1!$B$5 -> 0 | C9: U15 | H9: =PHONETIC(F9) | I9: =PHONETIC(G9) | P9: JWF26 | Q9: - | AH9: 17日
A10: 5 | B10: =様式1!$B$5 -> 0 | C10: U15 | H10: =PHONETIC(F10) | I10: =PHONETIC(G10) | P10: JWF26 | Q10: - | AH10: 18日
A11: 6 | B11: =様式1!$B$5 -> 0 | C11: U15 | H11: =PHONETIC(F11) | I11: =PHONETIC(G11) | P11: JWF26 | Q11: - | AH11: 19日
A12: 7 | B12: =様式1!$B$5 -> 0 | C12: U15 | H12: =PHONETIC(F12) | I12: =PHONETIC(G12) | P12: JWF26 | Q12: - | AH12: 20日
A13: 8 | B13: =様式1!$B$5 -> 0 | C13: U15 | H13: =PHONETIC(F13) | I13: =PHONETIC(G13) | P13: JWF26 | Q13: - | AH13: 21日
A14: 9 | B14: =様式1!$B$5 -> 0 | C14: U15 | H14: =PHONETIC(F14) | I14: =PHONETIC(G14) | P14: JWF26 | Q14: - | AH14: 22日
A15: 10 | B15: =様式1!$B$5 -> 0 | C15: U15 | H15: =PHONETIC(F15) | I15: =PHONETIC(G15) | P15: JWF26 | Q15: - | AH15: 23日
A16: 11 | B16: =様式1!$B$5 -> 0 | C16: U15 | H16: =PHONETIC(F16) | I16: =PHONETIC(G16) | P16: JWF26 | Q16: - | AH16: 14日 | AJ16: 都知事杯4位
A17: 12 | B17: =様式1!$B$5 -> 0 | C17: U15 | H17: =PHONETIC(F17) | I17: =PHONETIC(G17) | P17: JWF26 | Q17: - | AH17: 15日 | AJ17: 都知事杯ベスト8
A18: 13 | B18: =様式1!$B$5 -> 0 | C18: U15 | H18: =PHONETIC(F18) | I18: =PHONETIC(G18) | P18: JWF26 | Q18: - | AH18: 16日
A19: 14 | B19: =様式1!$B$5 -> 0 | C19: U15 | H19: =PHONETIC(F19) | I19: =PHONETIC(G19) | P19: JWF26 | Q19: - | AH19: 17日
A20: 15 | B20: =様式1!$B$5 -> 0 | C20: U15 | H20: =PHONETIC(F20) | I20: =PHONETIC(G20) | P20: JWF26 | Q20: - | AH20: 18日
A21: 16 | B21: =様式1!$B$5 -> 0 | C21: U15 | H21: =PHONETIC(F21) | I21: =PHONETIC(G21) | P21: JWF26 | Q21: - | AH21: 19日
A22: 17 | B22: =様式1!$B$5 -> 0 | C22: U15 | H22: =PHONETIC(F22) | I22: =PHONETIC(G22) | P22: JWF26 | Q22: - | AH22: 20日
A23: 18 | B23: =様式1!$B$5 -> 0 | C23: U15 | H23: =PHONETIC(F23) | I23: =PHONETIC(G23) | P23: JWF26 | Q23: - | AH23: 21日
A24: 19 | B24: =様式1!$B$5 -> 0 | C24: U15 | H24: =PHONETIC(F24) | I24: =PHONETIC(G24) | P24: JWF26 | Q24: - | AH24: 22日
A25: 20 | B25: =様式1!$B$5 -> 0 | C25: U15 | H25: =PHONETIC(F25) | I25: =PHONETIC(G25) | P25: JWF26 | Q25: - | AH25: 23日
A26: 21 | B26: =様式1!$B$5 -> 0 | C26: U15 | H26: =PHONETIC(F26) | I26: =PHONETIC(G26) | P26: JWF26 | Q26: - | AH26: 14日 | AJ26: 都知事杯4位
A27: 22 | B27: =様式1!$B$5 -> 0 | C27: U15 | H27: =PHONETIC(F27) | I27: =PHONETIC(G27) | P27: JWF26 | Q27: - | AH27: 15日 | AJ27: 都知事杯ベスト8
A28: 23 | B28: =様式1!$B$5 -> 0 | C28: U15 | H28: =PHONETIC(F28) | I28: =PHONETIC(G28) | P28: JWF26 | Q28: - | AH28: 16日
A29: 24 | B29: =様式1!$B$5 -> 0 | C29: U15 | H29: =PHONETIC(F29) | I29: =PHONETIC(G29) | P29: JWF26 | Q29: - | AH29: 17日
A30: 25 | B30: =様式1!$B$5 -> 0 | C30: U15 | H30: =PHONETIC(F30) | I30: =PHONETIC(G30) | P30: JWF26 | Q30: - | AH30: 18日
A31: 26 | B31: =様式1!$B$5 -> 0 | C31: U15 | H31: =PHONETIC(F31) | I31: =PHONETIC(G31) | P31: JWF26 | Q31: - | AH31: 19日
A32: 27 | B32: =様式1!$B$5 -> 0 | C32: U15 | H32: =PHONETIC(F32) | I32: =PHONETIC(G32) | P32: JWF26 | Q32: - | AH32: 20日
A33: 28 | B33: =様式1!$B$5 -> 0 | C33: U15 | H33: =PHONETIC(F33) | I33: =PHONETIC(G33) | P33: JWF26 | Q33: - | AH33: 21日
A34: 29 | B34: =様式1!$B$5 -> 0 | C34: U15 | H34: =PHONETIC(F34) | I34: =PHONETIC(G34) | P34: JWF26 | Q34: - | AH34: 22日
A35: 30 | B35: =様式1!$B$5 -> 0 | C35: U15 | H35: =PHONETIC(F35) | I35: =PHONETIC(G35) | P35: JWF26 | Q35: - | AH35: 23日
A36: 31 | B36: =様式1!$B$5 -> 0 | C36: U15 | H36: =PHONETIC(F36) | I36: =PHONETIC(G36) | P36: JWF26 | Q36: - | AH36: 14日 | AJ36: 都知事杯4位
A37: 32 | B37: =様式1!$B$5 -> 0 | C37: U15 | H37: =PHONETIC(F37) | I37: =PHONETIC(G37) | P37: JWF26 | Q37: - | AH37: 15日 | AJ37: 都知事杯ベスト8
A38: 33 | B38: =様式1!$B$5 -> 0 | C38: U15 | H38: =PHONETIC(F38) | I38: =PHONETIC(G38) | P38: JWF26 | Q38: - | AH38: 16日
A39: 34 | B39: =様式1!$B$5 -> 0 | C39: U15 | H39: =PHONETIC(F39) | I39: =PHONETIC(G39) | P39: JWF26 | Q39: - | AH39: 17日
A40: 35 | B40: =様式1!$B$5 -> 0 | C40: U15 | H40: =PHONETIC(F40) | I40: =PHONETIC(G40) | P40: JWF26 | Q40: - | AH40: 18日
A41: 36 | B41: =様式1!$B$5 -> 0 | C41: U15 | H41: =PHONETIC(F41) | I41: =PHONETIC(G41) | P41: JWF26 | Q41: - | AH41: 19日
A42: 37 | B42: =様式1!$B$5 -> 0 | C42: U15 | H42: =PHONETIC(F42) | I42: =PHONETIC(G42) | P42: JWF26 | Q42: - | AH42: 20日
A43: 38 | B43: =様式1!$B$5 -> 0 | C43: U15 | H43: =PHONETIC(F43) | I43: =PHONETIC(G43) | P43: JWF26 | Q43: - | AH43: 21日
A44: 39 | B44: =様式1!$B$5 -> 0 | C44: U15 | H44: =PHONETIC(F44) | I44: =PHONETIC(G44) | P44: JWF26 | Q44: - | AH44: 22日
A45: 40 | B45: =様式1!$B$5 -> 0 | C45: U15 | H45: =PHONETIC(F45) | I45: =PHONETIC(G45) | P45: JWF26 | Q45: - | AH45: 23日
A46: 41 | B46: =様式1!$B$5 -> 0 | C46: U15 | H46: =PHONETIC(F46) | I46: =PHONETIC(G46) | P46: JWF26 | Q46: - | AH46: 14日 | AJ46: 都知事杯4位
A47: 42 | B47: =様式1!$B$5 -> 0 | C47: U15 | H47: =PHONETIC(F47) | I47: =PHONETIC(G47) | P47: JWF26 | Q47: - | AH47: 15日 | AJ47: 都知事杯ベスト8
A48: 43 | B48: =様式1!$B$5 -> 0 | C48: U15 | H48: =PHONETIC(F48) | I48: =PHONETIC(G48) | P48: JWF26 | Q48: - | AH48: 16日
A49: 44 | B49: =様式1!$B$5 -> 0 | C49: U15 | H49: =PHONETIC(F49) | I49: =PHONETIC(G49) | P49: JWF26 | Q49: - | AH49: 17日
A50: 45 | B50: =様式1!$B$5 -> 0 | C50: U15 | H50: =PHONETIC(F50) | I50: =PHONETIC(G50) | P50: JWF26 | Q50: - | AH50: 18日
A51: 46 | B51: =様式1!$B$5 -> 0 | C51: U15 | H51: =PHONETIC(F51) | I51: =PHONETIC(G51) | P51: JWF26 | Q51: - | AH51: 19日
A52: 47 | B52: =様式1!$B$5 -> 0 | C52: U15 | H52: =PHONETIC(F52) | I52: =PHONETIC(G52) | P52: JWF26 | Q52: - | AH52: 20日
A53: 48 | B53: =様式1!$B$5 -> 0 | C53: U15 | H53: =PHONETIC(F53) | I53: =PHONETIC(G53) | P53: JWF26 | Q53: - | AH53: 21日
A54: 49 | B54: =様式1!$B$5 -> 0 | C54: U15 | H54: =PHONETIC(F54) | I54: =PHONETIC(G54) | P54: JWF26 | Q54: - | AH54: 22日
A55: 50 | B55: =様式1!$B$5 -> 0 | C55: U15 | H55: =PHONETIC(F55) | I55: =PHONETIC(G55) | P55: JWF26 | Q55: - | AH55: 23日

Sheet 様式3（U17申込書）
A1: 2026年度 NTS関東地区選手権 参加申込書（U17）
S2: 75kg級 | T2: 92kg級 | U2: 97kg級 | V2: 97kg級 | AG2: 9月 | AH2: 9日 | AJ2: 全中大会3位
A3: ※ 選考会のみの参加は認められません。必ず、研修会の申込みも行ってください。 | S3: 85kg級 | T3: 110kg級 | U3: 125kg級 | V3: 130kg級 | AG3: 10月 | AH3: 10日 | AJ3: 全中大会ベスト８
A4: No. | B4: 都道府県 | C4: カテゴリー | D4: スタイル | E4: 階級 | F4: 氏名（漢字） | H4: フリガナ（全角カタカナ） | J4: 学校名 | L4: 学年 | M4: 生年月日 | P4: 日本協会登録番号 | AG4: 11月 | AH4: 11日 | AJ4: 都知事杯1位
D5: （リスト選択） | E5: （リスト選択） | F5: 氏 | G5: 名 | H5: シ | I5: メイ | L5: （リスト選択） | M5: （リスト選択） | P5: JWF26 | Q5: - | R5: 入力（5桁） | AH5: 13日 | AJ5: 都知事杯3位
A6: 1 | B6: =様式1!$B$5 -> 0 | C6: U17 | K6: 高等学校 | P6: JWF26 | Q6: - | AH6: 14日 | AJ6: 都知事杯4位
A7: 2 | B7: =様式1!$B$5 -> 0 | C7: U17 | H7: =PHONETIC(F7) | I7: =PHONETIC(G7) | K7: 高等学校 | P7: JWF26 | Q7: - | AH7: 15日 | AJ7: 都知事杯ベスト8
A8: 3 | B8: =様式1!$B$5 -> 0 | C8: U17 | H8: =PHONETIC(F8) | I8: =PHONETIC(G8) | K8: 高等学校 | P8: JWF26 | Q8: - | AH8: 16日
A9: 4 | B9: =様式1!$B$5 -> 0 | C9: U17 | H9: =PHONETIC(F9) | I9: =PHONETIC(G9) | K9: 高等学校 | P9: JWF26 | Q9: - | AH9: 17日
A10: 5 | B10: =様式1!$B$5 -> 0 | C10: U17 | H10: =PHONETIC(F10) | I10: =PHONETIC(G10) | K10: 高等学校 | P10: JWF26 | Q10: - | AH10: 18日
A11: 6 | B11: =様式1!$B$5 -> 0 | C11: U17 | H11: =PHONETIC(F11) | I11: =PHONETIC(G11) | K11: 高等学校 | P11: JWF26 | Q11: - | AH11: 19日
A12: 7 | B12: =様式1!$B$5 -> 0 | C12: U17 | H12: =PHONETIC(F12) | I12: =PHONETIC(G12) | K12: 高等学校 | P12: JWF26 | Q12: - | AH12: 20日
A13: 8 | B13: =様式1!$B$5 -> 0 | C13: U17 | H13: =PHONETIC(F13) | I13: =PHONETIC(G13) | K13: 高等学校 | P13: JWF26 | Q13: - | AH13: 21日
A14: 9 | B14: =様式1!$B$5 -> 0 | C14: U17 | H14: =PHONETIC(F14) | I14: =PHONETIC(G14) | K14: 高等学校 | P14: JWF26 | Q14: - | AH14: 22日
A15: 10 | B15: =様式1!$B$5 -> 0 | C15: U17 | H15: =PHONETIC(F15) | I15: =PHONETIC(G15) | K15: 高等学校 | P15: JWF26 | Q15: - | AH15: 23日
A16: 11 | B16: =様式1!$B$5 -> 0 | C16: U17 | H16: =PHONETIC(F16) | I16: =PHONETIC(G16) | K16: 高等学校 | P16: JWF26 | Q16: - | AH16: 24日
A17: 12 | B17: =様式1!$B$5 -> 0 | C17: U17 | H17: =PHONETIC(F17) | I17: =PHONETIC(G17) | K17: 高等学校 | P17: JWF26 | Q17: - | AH17: 25日
A18: 13 | B18: =様式1!$B$5 -> 0 | C18: U17 | H18: =PHONETIC(F18) | I18: =PHONETIC(G18) | K18: 高等学校 | P18: JWF26 | Q18: - | AH18: 26日
A19: 14 | B19: =様式1!$B$5 -> 0 | C19: U17 | H19: =PHONETIC(F19) | I19: =PHONETIC(G19) | K19: 高等学校 | P19: JWF26 | Q19: - | AH19: 27日
... A23: 18 | B23: =様式1!$B$5 -> 0 | C23: U17 | H23: =PHONETIC(F23) | I23: =PHONETIC(G23) | K23: 高等学校 | P23: JWF26 | Q23: - | AH23: 31日
A24: 19 | B24: =様式1!$B$5 -> 0 | C24: U17 | H24: =PHONETIC(F24) | I24: =PHONETIC(G24) | K24: 高等学校 | P24: JWF26 | Q24: -
A25: 20 | B25: =様式1!$B$5 -> 0 | C25: U17 | H25: =PHONETIC(F25) | I25: =PHONETIC(G25) | K25: 高等学校 | P25: JWF26 | Q25: -
A26: 21 | B26: =様式1!$B$5 -> 0 | C26: U17 | H26: =PHONETIC(F26) | I26: =PHONETIC(G26) | K26: 高等学校 | P26: JWF26 | Q26: - | AH26: 24日
A27: 22 | B27: =様式1!$B$5 -> 0 | C27: U17 | H27: =PHONETIC(F27) | I27: =PHONETIC(G27) | K27: 高等学校 | P27: JWF26 | Q27: - | AH27: 25日
A28: 23 | B28: =様式1!$B$5 -> 0 | C28: U17 | H28: =PHONETIC(F28) | I28: =PHONETIC(G28) | K28: 高等学校 | P28: JWF26 | Q28: - | AH28: 26日
A29: 24 | B29: =様式1!$B$5 -> 0 | C29: U17 | H29: =PHONETIC(F29) | I29: =PHONETIC(G29) | K29: 高等学校 | P29: JWF26 | Q29: - | AH29: 27日
A30: 25 | B30: =様式1!$B$5 -> 0 | C30: U17 | H30: =PHONETIC(F30) | I30: =PHONETIC(G30) | K30: 高等学校 | P30: JWF26 | Q30: - | AH30: 28日
A31: 26 | B31: =様式1!$B$5 -> 0 | C31: U17 | H31: =PHONETIC(F31) | I31: =PHONETIC(G31) | K31: 高等学校 | P31: JWF26 | Q31: - | AH31: 29日
A32: 27 | B32: =様式1!$B$5 -> 0 | C32: U17 | H32: =PHONETIC(F32) | I32: =PHONETIC(G32) | K32: 高等学校 | P32: JWF26 | Q32: - | AH32: 30日
A33: 28 | B33: =様式1!$B$5 -> 0 | C33: U17 | H33: =PHONETIC(F33) | I33: =PHONETIC(G33) | K33: 高等学校 | P33: JWF26 | Q33: - | AH33: 31日
A34: 29 | B34: =様式1!$B$5 -> 0 | C34: U17 | H34: =PHONETIC(F34) | I34: =PHONETIC(G34) | K34: 高等学校 | P34: JWF26 | Q34: -
A35: 30 | B35: =様式1!$B$5 -> 0 | C35: U17 | H35: =PHONETIC(F35) | I35: =PHONETIC(G35) | K35: 高等学校 | P35: JWF26 | Q35: -

Sheet 様式4（U20申込書）
A1: 2026年度 NTS関東地区選手権 参加申込書（U20）
A3: ※ 選考会のみの参加は認められません。必ず、研修会の申込みも行ってください。
A4: No. | B4: 都道府県 | C4: カテゴリー | D4: スタイル | E4: 階級 | F4: 氏名（漢字） | H4: フリガナ（全角カタカナ） | J4: 学校名 | L4: 学年 | M4: 生年月日 | P4: 日本協会登録番号
D5: （リスト選択） | E5: （リスト選択） | F5: 氏 | G5: 名 | H5: シ | I5: メイ | M5: （リスト選択） | P5: JWF26 | Q5: - | R5: 入力（5桁）
A6: 1 | B6: =様式1!$B$5 -> 0 | C6: U20 | K6: 高等学校 | L6: 高2 | P6: JWF26 | Q6: -
A7: 2 | B7: =様式1!$B$5 -> 0 | C7: U20 | K7: 高等学校 | L7: 高2 | P7: JWF26 | Q7: -
A8: 3 | B8: =様式1!$B$5 -> 0 | C8: U20 | H8: =PHONETIC(F8) | I8: =PHONETIC(G8) | K8: 高等学校 | L8: 高2 | P8: JWF26 | Q8: -
A9: 4 | B9: =様式1!$B$5 -> 0 | C9: U20 | H9: =PHONETIC(F9) | I9: =PHONETIC(G9) | K9: 高等学校 | L9: 高2 | P9: JWF26 | Q9: -
A10: 5 | B10: =様式1!$B$5 -> 0 | C10: U20 | H10: =PHONETIC(F10) | I10: =PHONETIC(G10) | K10: 高等学校 | L10: 高2 | P10: JWF26 | Q10: -
A11: 6 | B11: =様式1!$B$5 -> 0 | C11: U20 | H11: =PHONETIC(F11) | I11: =PHONETIC(G11) | K11: 高等学校 | L11: 高2 | P11: JWF26 | Q11: -
A12: 7 | B12: =様式1!$B$5 -> 0 | C12: U20 | H12: =PHONETIC(F12) | I12: =PHONETIC(G12) | K12: 高等学校 | L12: 高2 | P12: JWF26 | Q12: -
A13: 8 | B13: =様式1!$B$5 -> 0 | C13: U20 | H13: =PHONETIC(F13) | I13: =PHONETIC(G13) | K13: 高等学校 | L13: 高2 | P13: JWF26 | Q13: -
A14: 9 | B14: =様式1!$B$5 -> 0 | C14: U20 | H14: =PHONETIC(F14) | I14: =PHONETIC(G14) | K14: 高等学校 | L14: 高2 | P14: JWF26 | Q14: -
A15: 10 | B15: =様式1!$B$5 -> 0 | C15: U20 | H15: =PHONETIC(F15) | I15: =PHONETIC(G15) | K15: 高等学校 | L15: 高2 | P15: JWF26 | Q15: -
A16: 11 | B16: =様式1!$B$5 -> 0 | C16: U20 | H16: =PHONETIC(F16) | I16: =PHONETIC(G16) | K16: 高等学校 | L16: 高2 | P16: JWF26 | Q16: -
A17: 12 | B17: =様式1!$B$5 -> 0 | C17: U20 | H17: =PHONETIC(F17) | I17: =PHONETIC(G17) | K17: 高等学校 | L17: 高2 | P17: JWF26 | Q17: -
A18: 13 | B18: =様式1!$B$5 -> 0 | C18: U20 | H18: =PHONETIC(F18) | I18: =PHONETIC(G18) | K18: 高等学校 | L18: 高2 | P18: JWF26 | Q18: -
A19: 14 | B19: =様式1!$B$5 -> 0 | C19: U20 | H19: =PHONETIC(F19) | I19: =PHONETIC(G19) | K19: 高等学校 | L19: 高2 | P19: JWF26 | Q19: -
... A35: 30 | B35: =様式1!$B$5 -> 0 | C35: U20 | H35: =PHONETIC(F35) | I35: =PHONETIC(G35) | K35: 高等学校 | L35: 高2 | P35: JWF26 | Q35: -

Sheet list
A1: 領収証 | B1: U15 | C1: U17 | D1: スタイル | E1: U20FS | F1: U20GR | G1: 都道府県No. | H1: 都道府県 | I1: 所属 | J1: 学年 | K1: 学年 | L1: U15年 | M1: U17年 | N1: U20年 | O1: 月 | P1: 日
A2: (選択） | B2: 34～38kg級 | C2: 41～45kg級 | D2: FS | E2: 50～57kg級 | F2: 50～55kg級 | G2: 1 | H2: 茨城県 | I2: クラブ | J2: 中1 | K2: 高1 | L2: 2012年（平成24年） | M2: 2009年（平成21年） | N2: 2006年（平成18年） | O2: 1月 | P2: 1日
A3: 所属ごとに発行 | B3: 41kg級 | C3: 48kg級 | D3: GR | E3: 61kg級 | F3: 60kg級 | G3: 2 | H3: 栃木県 | I3: 中学校 | J3: 中2 | K3: 高2 | L3: 2013年（平成25年） | M3: 2010年（平成22年） | N3: 2007年（平成19年） | O3: 2月 | P3: 2日
A4: 必要ない | B4: 44kg級 | C4: 51kg級 | E4: 65kg級 | F4: 63kg級 | G4: 3 | H4: 群馬県 | I4: 高等学校 | J4: 中3 | L4: 2014年（平成26年） | M4: 2011年（平成23年） | N4: 2008年（平成20年） | O4: 3月 | P4: 3日
B5: 48kg級 | C5: 55kg級 | E5: 70kg級 | F5: 67kg級 | G5: 4 | H5: 埼玉県 | N5: 2009年（平成21年） | O5: 4月 | P5: 4日
B6: 52kg級 | C6: 60kg級 | E6: 74kg級 | F6: 72kg級 | G6: 5 | H6: 千葉県 | O6: 5月 | P6: 5日
B7: 57kg級 | C7: 65kg級 | E7: 79kg級 | F7: 77kg級 | G7: 6 | H7: 東京都 | O7: 6月 | P7: 6日
B8: 62kg級 | C8: 71kg級 | E8: 86kg級 | F8: 82kg級 | G8: 7 | H8: 神奈川県 | O8: 7月 | P8: 7日
B9: 68kg級 | C9: 80kg級 | E9: 92kg級 | F9: 87kg級 | G9: 8 | H9: 山梨県 | O9: 8月 | P9: 8日
B10: 75kg級 | C10: 92kg級 | E10: 97kg級 | F10: 97kg級 | O10: 9月 | P10: 9日
B11: 85kg級 | C11: 110kg級 | E11: 125kg級 | F11: 130kg級 | O11: 10月 | P11: 10日
O12: 11月 | P12: 11日
O13: 12月 | P13: 12日
P14: 13日
P15: 14日
P16: 15日
P17: 16日
P18: 17日
P19: 18日
P20: 19日
P21: 20日
P22: 21日
P23: 22日
P24: 23日
P25: 24日
... P32: 31日

Sheet hed
A1: =様式1!A5 | B1: =様式1!B5 -> 0 | C1: =様式1!C5 -> 0 | D1: =様式1!D5 -> 0 | E1: =様式1!E5 -> 0 | F1: =様式1!F5 -> 0 | G1: =様式1!G5 -> 0 | H1: =様式1!D26 -> 0 | I1: =様式1!E26 -> 0 | J1: =様式1!F26 -> 0 | K1: =様式1!$F$27 -> 0 | L1: =様式1!$D$29 -> 0 | M1: =様式1!$F$31 -> (選択）

Sheet shinpan
A1: =様式1!A12 -> 1 | B1: =様式1!$A$5 | C1: =様式1!B12 -> 0 | D1: =様式1!C12 -> 0 | E1: =様式1!D12 -> 0 | F1: =様式1!E12 -> 0 | G1: =様式1!F12 -> 0 | H1: =様式1!G12 -> 0
A2: =様式1!A13 -> 2 | B2: =様式1!$A$5 | C2: =様式1!B13 -> 0 | D2: =様式1!C13 -> 0 | E2: =様式1!D13 -> 0 | F2: =様式1!E13 | G2: =様式1!F13 | H2: =様式1!G13 -> 0
A3: =様式1!A14 -> 3 | B3: =様式1!$A$5 | C3: =様式1!B14 -> 0 | D3: =様式1!C14 -> 0 | E3: =様式1!D14 -> 0 | F3: =様式1!E14 | G3: =様式1!F14 | H3: =様式1!G14 -> 0
A4: =様式1!A15 -> 4 | B4: =様式1!$A$5 | C4: =様式1!B15 -> 0 | D4: =様式1!C15 -> 0 | E4: =様式1!D15 -> 0 | F4: =様式1!E15 | G4: =様式1!F15 | H4: =様式1!G15 -> 0
A5: =様式1!A16 -> 5 | B5: =様式1!$A$5 | C5: =様式1!B16 -> 0 | D5: =様式1!C16 -> 0 | E5: =様式1!D16 -> 0 | F5: =様式1!E16 | G5: =様式1!F16 | H5: =様式1!G16 -> 0
A6: =様式1!A17 -> 6 | B6: =様式1!$A$5 | C6: =様式1!B17 -> 0 | D6: =様式1!C17 -> 0 | E6: =様式1!D17 -> 0 | F6: =様式1!E17 | G6: =様式1!F17 | H6: =様式1!G17 -> 0
A7: =様式1!A18 -> 7 | B7: =様式1!$A$5 | C7: =様式1!B18 -> 0 | D7: =様式1!C18 -> 0 | E7: =様式1!D18 -> 0 | F7: =様式1!E18 | G7: =様式1!F18 | H7: =様式1!G18 -> 0
A8: =様式1!A19 -> 8 | B8: =様式1!$A$5 | C8: =様式1!B19 -> 0 | D8: =様式1!C19 -> 0 | E8: =様式1!D19 -> 0 | F8: =様式1!E19 | G8: =様式1!F19 | H8: =様式1!G19 -> 0
A9: =様式1!A20 -> 9 | B9: =様式1!$A$5 | C9: =様式1!B20 -> 0 | D9: =様式1!C20 -> 0 | E9: =様式1!D20 -> 0 | F9: =様式1!E20 | G9: =様式1!F20 | H9: =様式1!G20 -> 0
A10: =様式1!A21 -> 10 | B10: =様式1!$A$5 | C10: =様式1!B21 -> 0 | D10: =様式1!C21 -> 0 | E10: =様式1!D21 -> 0 | F10: =様式1!E21 | G10: =様式1!F21 | H10: =様式1!G21 -> 0

Sheet DB
A1: ='様式2（U15申込書）'!A6 -> 1 | B1: =様式1!$A$5 | C1: ='様式2（U15申込書）'!B6 -> 0 | D1: ='様式2（U15申込書）'!C6 -> U15 | E1: ='様式2（U15申込書）'!D6 -> 0 | F1: ='様式2（U15申込書）'!E6 -> 0 | G1: ='様式2（U15申込書）'!F6 -> 0 | H1: ='様式2（U15申込書）'!G6 -> 0 | I1: ='様式2（U15申込書）'!H6 -> 0 | J1: ='様式2（U15申込書）'!I6 -> 0 | ... S1: ='様式2（U15申込書）'!R6 -> 0
A2: ='様式2（U15申込書）'!A7 -> 2 | B2: =様式1!$A$5 | C2: ='様式2（U15申込書）'!B7 -> 0 | D2: ='様式2（U15申込書）'!C7 -> U15 | E2: ='様式2（U15申込書）'!D7 -> 0 | F2: ='様式2（U15申込書）'!E7 -> 0 | G2: ='様式2（U15申込書）'!F7 -> 0 | H2: ='様式2（U15申込書）'!G7 -> 0 | I2: ='様式2（U15申込書）'!H7 | J2: ='様式2（U15申込書）'!I7 | ... S2: ='様式2（U15申込書）'!R7 -> 0
A3: ='様式2（U15申込書）'!A8 -> 3 | B3: =様式1!$A$5 | C3: ='様式2（U15申込書）'!B8 -> 0 | D3: ='様式2（U15申込書）'!C8 -> U15 | E3: ='様式2（U15申込書）'!D8 -> 0 | F3: ='様式2（U15申込書）'!E8 -> 0 | G3: ='様式2（U15申込書）'!F8 -> 0 | H3: ='様式2（U15申込書）'!G8 -> 0 | I3: ='様式2（U15申込書）'!H8 | J3: ='様式2（U15申込書）'!I8 | ... S3: ='様式2（U15申込書）'!R8 -> 0
A4: ='様式2（U15申込書）'!A9 -> 4 | B4: =様式1!$A$5 | C4: ='様式2（U15申込書）'!B9 -> 0 | D4: ='様式2（U15申込書）'!C9 -> U15 | E4: ='様式2（U15申込書）'!D9 -> 0 | F4: ='様式2（U15申込書）'!E9 -> 0 | G4: ='様式2（U15申込書）'!F9 -> 0 | H4: ='様式2（U15申込書）'!G9 -> 0 | I4: ='様式2（U15申込書）'!H9 | J4: ='様式2（U15申込書）'!I9 | ... S4: ='様式2（U15申込書）'!R9 -> 0
A5: ='様式2（U15申込書）'!A10 -> 5 | B5: =様式1!$A$5 | C5: ='様式2（U15申込書）'!B10 -> 0 | D5: ='様式2（U15申込書）'!C10 -> U15 | E5: ='様式2（U15申込書）'!D10 -> 0 | F5: ='様式2（U15申込書）'!E10 -> 0 | G5: ='様式2（U15申込書）'!F10 -> 0 | H5: ='様式2（U15申込書）'!G10 -> 0 | I5: ='様式2（U15申込書）'!H10 | J5: ='様式2（U15申込書）'!I10 | ... S5: ='様式2（U15申込書）'!R10 -> 0
A6: ='様式2（U15申込書）'!A11 -> 6 | B6: =様式1!$A$5 | C6: ='様式2（U15申込書）'!B11 -> 0 | D6: ='様式2（U15申込書）'!C11 -> U15 | E6: ='様式2（U15申込書）'!D11 -> 0 | F6: ='様式2（U15申込書）'!E11 -> 0 | G6: ='様式2（U15申込書）'!F11 -> 0 | H6: ='様式2（U15申込書）'!G11 -> 0 | I6: ='様式2（U15申込書）'!H11 | J6: ='様式2（U15申込書）'!I11 | ... S6: ='様式2（U15申込書）'!R11 -> 0
A7: ='様式2（U15申込書）'!A12 -> 7 | B7: =様式1!$A$5 | C7: ='様式2（U15申込書）'!B12 -> 0 | D7: ='様式2（U15申込書）'!C12 -> U15 | E7: ='様式2（U15申込書）'!D12 -> 0 | F7: ='様式2（U15申込書）'!E12 -> 0 | G7: ='様式2（U15申込書）'!F12 -> 0 | H7: ='様式2（U15申込書）'!G12 -> 0 | I7: ='様式2（U15申込書）'!H12 | J7: ='様式2（U15申込書）'!I12 | ... S7: ='様式2（U15申込書）'!R12 -> 0
A8: ='様式2（U15申込書）'!A13 -> 8 | B8: =様式1!$A$5 | C8: ='様式2（U15申込書）'!B13 -> 0 | D8: ='様式2（U15申込書）'!C13 -> U15 | E8: ='様式2（U15申込書）'!D13 -> 0 | F8: ='様式2（U15申込書）'!E13 -> 0 | G8: ='様式2（U15申込書）'!F13 -> 0 | H8: ='様式2（U15申込書）'!G13 -> 0 | I8: ='様式2（U15申込書）'!H13 | J8: ='様式2（U15申込書）'!I13 | ... S8: ='様式2（U15申込書）'!R13 -> 0
A9: ='様式2（U15申込書）'!A14 -> 9 | B9: =様式1!$A$5 | C9: ='様式2（U15申込書）'!B14 -> 0 | D9: ='様式2（U15申込書）'!C14 -> U15 | E9: ='様式2（U15申込書）'!D14 -> 0 | F9: ='様式2（U15申込書）'!E14 -> 0 | G9: ='様式2（U15申込書）'!F14 -> 0 | H9: ='様式2（U15申込書）'!G14 -> 0 | I9: ='様式2（U15申込書）'!H14 | J9: ='様式2（U15申込書）'!I14 | ... S9: ='様式2（U15申込書）'!R14 -> 0
A10: ='様式2（U15申込書）'!A15 -> 10 | B10: =様式1!$A$5 | C10: ='様式2（U15申込書）'!B15 -> 0 | D10: ='様式2（U15申込書）'!C15 -> U15 | E10: ='様式2（U15申込書）'!D15 -> 0 | F10: ='様式2（U15申込書）'!E15 -> 0 | G10: ='様式2（U15申込書）'!F15 -> 0 | H10: ='様式2（U15申込書）'!G15 -> 0 | I10: ='様式2（U15申込書）'!H15 | J10: ='様式2（U15申込書）'!I15 | ... S10: ='様式2（U15申込書）'!R15 -> 0
A11: ='様式2（U15申込書）'!A16 -> 11 | B11: =様式1!$A$5 | C11: ='様式2（U15申込書）'!B16 -> 0 | D11: ='様式2（U15申込書）'!C16 -> U15 | E11: ='様式2（U15申込書）'!D16 -> 0 | F11: ='様式2（U15申込書）'!E16 -> 0 | G11: ='様式2（U15申込書）'!F16 -> 0 | H11: ='様式2（U15申込書）'!G16 -> 0 | I11: ='様式2（U15申込書）'!H16 | J11: ='様式2（U15申込書）'!I16 | ... S11: ='様式2（U15申込書）'!R16 -> 0
A12: ='様式2（U15申込書）'!A17 -> 12 | B12: =様式1!$A$5 | C12: ='様式2（U15申込書）'!B17 -> 0 | D12: ='様式2（U15申込書）'!C17 -> U15 | E12: ='様式2（U15申込書）'!D17 -> 0 | F12: ='様式2（U15申込書）'!E17 -> 0 | G12: ='様式2（U15申込書）'!F17 -> 0 | H12: ='様式2（U15申込書）'!G17 -> 0 | I12: ='様式2（U15申込書）'!H17 | J12: ='様式2（U15申込書）'!I17 | ... S12: ='様式2（U15申込書）'!R17 -> 0
... A50: ='様式2（U15申込書）'!A55 -> 50 | B50: =様式1!$A$5 | C50: ='様式2（U15申込書）'!B55 -> 0 | D50: ='様式2（U15申込書）'!C55 -> U15 | E50: ='様式2（U15申込書）'!D55 -> 0 | F50: ='様式2（U15申込書）'!E55 -> 0 | G50: ='様式2（U15申込書）'!F55 -> 0 | H50: ='様式2（U15申込書）'!G55 -> 0 | I50: ='様式2（U15申込書）'!H55 | J50: ='様式2（U15申込書）'!I55 | ... S50: ='様式2（U15申込書）'!R55 -> 0
A51: ='様式3（U17申込書）'!A6 -> 1 | B51: =様式1!$A$5 | C51: ='様式3（U17申込書）'!B6 -> 0 | D51: ='様式3（U17申込書）'!C6 -> U17 | E51: ='様式3（U17申込書）'!D6 -> 0 | F51: ='様式3（U17申込書）'!E6 -> 0 | G51: ='様式3（U17申込書）'!F6 -> 0 | H51: ='様式3（U17申込書）'!G6 -> 0 | I51: ='様式3（U17申込書）'!H6 -> 0 | J51: ='様式3（U17申込書）'!I6 -> 0 | ... S51: ='様式3（U17申込書）'!R6 -> 0
A52: ='様式3（U17申込書）'!A7 -> 2 | B52: =様式1!$A$5 | C52: ='様式3（U17申込書）'!B7 -> 0 | D52: ='様式3（U17申込書）'!C7 -> U17 | E52: ='様式3（U17申込書）'!D7 -> 0 | F52: ='様式3（U17申込書）'!E7 -> 0 | G52: ='様式3（U17申込書）'!F7 -> 0 | H52: ='様式3（U17申込書）'!G7 -> 0 | I52: ='様式3（U17申込書）'!H7 | J52: ='様式3（U17申込書）'!I7 | ... S52: ='様式3（U17申込書）'!R7 -> 0
A53: ='様式3（U17申込書）'!A8 -> 3 | B53: =様式1!$A$5 | C53: ='様式3（U17申込書）'!B8 -> 0 | D53: ='様式3（U17申込書）'!C8 -> U17 | E53: ='様式3（U17申込書）'!D8 -> 0 | F53: ='様式3（U17申込書）'!E8 -> 0 | G53: ='様式3（U17申込書）'!F8 -> 0 | H53: ='様式3（U17申込書）'!G8 -> 0 | I53: ='様式3（U17申込書）'!H8 | J53: ='様式3（U17申込書）'!I8 | ... S53: ='様式3（U17申込書）'!R8 -> 0
A54: ='様式3（U17申込書）'!A9 -> 4 | B54: =様式1!$A$5 | C54: ='様式3（U17申込書）'!B9 -> 0 | D54: ='様式3（U17申込書）'!C9 -> U17 | E54: ='様式3（U17申込書）'!D9 -> 0 | F54: ='様式3（U17申込書）'!E9 -> 0 | G54: ='様式3（U17申込書）'!F9 -> 0 | H54: ='様式3（U17申込書）'!G9 -> 0 | I54: ='様式3（U17申込書）'!H9 | J54: ='様式3（U17申込書）'!I9 | ... S54: ='様式3（U17申込書）'!R9 -> 0
A55: ='様式3（U17申込書）'!A10 -> 5 | B55: =様式1!$A$5 | C55: ='様式3（U17申込書）'!B10 -> 0 | D55: ='様式3（U17申込書）'!C10 -> U17 | E55: ='様式3（U17申込書）'!D10 -> 0 | F55: ='様式3（U17申込書）'!E10 -> 0 | G55: ='様式3（U17申込書）'!F10 -> 0 | H55: ='様式3（U17申込書）'!G10 -> 0 | I55: ='様式3（U17申込書）'!H10 | J55: ='様式3（U17申込書）'!I10 | ... S55: ='様式3（U17申込書）'!R10 -> 0
A56: ='様式3（U17申込書）'!A11 -> 6 | B56: =様式1!$A$5 | C56: ='様式3（U17申込書）'!B11 -> 0 | D56: ='様式3（U17申込書）'!C11 -> U17 | E56: ='様式3（U17申込書）'!D11 -> 0 | F56: ='様式3（U17申込書）'!E11 -> 0 | G56: ='様式3（U17申込書）'!F11 -> 0 | H56: ='様式3（U17申込書）'!G11 -> 0 | I56: ='様式3（U17申込書）'!H11 | J56: ='様式3（U17申込書）'!I11 | ... S56: ='様式3（U17申込書）'!R11 -> 0
A57: ='様式3（U17申込書）'!A12 -> 7 | B57: =様式1!$A$5 | C57: ='様式3（U17申込書）'!B12 -> 0 | D57: ='様式3（U17申込書）'!C12 -> U17 | E57: ='様式3（U17申込書）'!D12 -> 0 | F57: ='様式3（U17申込書）'!E12 -> 0 | G57: ='様式3（U17申込書）'!F12 -> 0 | H57: ='様式3（U17申込書）'!G12 -> 0 | I57: ='様式3（U17申込書）'!H12 | J57: ='様式3（U17申込書）'!I12 | ... S57: ='様式3（U17申込書）'!R12 -> 0
A58: ='様式3（U17申込書）'!A13 -> 8 | B58: =様式1!$A$5 | C58: ='様式3（U17申込書）'!B13 -> 0 | D58: ='様式3（U17申込書）'!C13 -> U17 | E58: ='様式3（U17申込書）'!D13 -> 0 | F58: ='様式3（U17申込書）'!E13 -> 0 | G58: ='様式3（U17申込書）'!F13 -> 0 | H58: ='様式3（U17申込書）'!G13 -> 0 | I58: ='様式3（U17申込書）'!H13 | J58: ='様式3（U17申込書）'!I13 | ... S58: ='様式3（U17申込書）'!R13 -> 0
A59: ='様式3（U17申込書）'!A14 -> 9 | B59: =様式1!$A$5 | C59: ='様式3（U17申込書）'!B14 -> 0 | D59: ='様式3（U17申込書）'!C14 -> U17 | E59: ='様式3（U17申込書）'!D14 -> 0 | F59: ='様式3（U17申込書）'!E14 -> 0 | G59: ='様式3（U17申込書）'!F14 -> 0 | H59: ='様式3（U17申込書）'!G14 -> 0 | I59: ='様式3（U17申込書）'!H14 | J59: ='様式3（U17申込書）'!I14 | ... S59: ='様式3（U17申込書）'!R14 -> 0
A60: ='様式3（U17申込書）'!A15 -> 10 | B60: =様式1!$A$5 | C60: ='様式3（U17申込書）'!B15 -> 0 | D60: ='様式3（U17申込書）'!C15 -> U17 | E60: ='様式3（U17申込書）'!D15 -> 0 | F60: ='様式3（U17申込書）'!E15 -> 0 | G60: ='様式3（U17申込書）'!F15 -> 0 | H60: ='様式3（U17申込書）'!G15 -> 0 | I60: ='様式3（U17申込書）'!H15 | J60: ='様式3（U17申込書）'!I15 | ... S60: ='様式3（U17申込書）'!R15 -> 0
A61: ='様式3（U17申込書）'!A16 -> 11 | B61: =様式1!$A$5 | C61: ='様式3（U17申込書）'!B16 -> 0 | D61: ='様式3（U17申込書）'!C16 -> U17 | E61: ='様式3（U17申込書）'!D16 -> 0 | F61: ='様式3（U17申込書）'!E16 -> 0 | G61: ='様式3（U17申込書）'!F16 -> 0 | H61: ='様式3（U17申込書）'!G16 -> 0 | I61: ='様式3（U17申込書）'!H16 | J61: ='様式3（U17申込書）'!I16 | ... S61: ='様式3（U17申込書）'!R16 -> 0
A62: ='様式3（U17申込書）'!A17 -> 12 | B62: =様式1!$A$5 | C62: ='様式3（U17申込書）'!B17 -> 0 | D62: ='様式3（U17申込書）'!C17 -> U17 | E62: ='様式3（U17申込書）'!D17 -> 0 | F62: ='様式3（U17申込書）'!E17 -> 0 | G62: ='様式3（U17申込書）'!F17 -> 0 | H62: ='様式3（U17申込書）'!G17 -> 0 | I62: ='様式3（U17申込書）'!H17 | J62: ='様式3（U17申込書）'!I17 | ... S62: ='様式3（U17申込書）'!R17 -> 0
... A80: ='様式3（U17申込書）'!A35 -> 30 | B80: =様式1!$A$5 | C80: ='様式3（U17申込書）'!B35 -> 0 | D80: ='様式3（U17申込書）'!C35 -> U17 | E80: ='様式3（U17申込書）'!D35 -> 0 | F80: ='様式3（U17申込書）'!E35 -> 0 | G80: ='様式3（U17申込書）'!F35 -> 0 | H80: ='様式3（U17申込書）'!G35 -> 0 | I80: ='様式3（U17申込書）'!H35 | J80: ='様式3（U17申込書）'!I35 | ... S80: ='様式3（U17申込書）'!R35 -> 0
A81: ='様式4（U20申込書）'!A6 -> 1 | B81: =様式1!$A$5 | C81: ='様式4（U20申込書）'!B6 -> 0 | D81: ='様式4（U20申込書）'!C6 -> U20 | E81: ='様式4（U20申込書）'!D6 -> 0 | F81: ='様式4（U20申込書）'!E6 -> 0 | G81: ='様式4（U20申込書）'!F6 -> 0 | H81: ='様式4（U20申込書）'!G6 -> 0 | I81: ='様式4（U20申込書）'!H6 -> 0 | J81: ='様式4（U20申込書）'!I6 -> 0 | ... S81: ='様式4（U20申込書）'!R6 -> 0
A82: ='様式4（U20申込書）'!A7 -> 2 | B82: =様式1!$A$5 | C82: ='様式4（U20申込書）'!B7 -> 0 | D82: ='様式4（U20申込書）'!C7 -> U20 | E82: ='様式4（U20申込書）'!D7 -> 0 | F82: ='様式4（U20申込書）'!E7 -> 0 | G82: ='様式4（U20申込書）'!F7 -> 0 | H82: ='様式4（U20申込書）'!G7 -> 0 | I82: ='様式4（U20申込書）'!H7 -> 0 | J82: ='様式4（U20申込書）'!I7 -> 0 | ... S82: ='様式4（U20申込書）'!R7 -> 0
A83: ='様式4（U20申込書）'!A8 -> 3 | B83: =様式1!$A$5 | C83: ='様式4（U20申込書）'!B8 -> 0 | D83: ='様式4（U20申込書）'!C8 -> U20 | E83: ='様式4（U20申込書）'!D8 -> 0 | F83: ='様式4（U20申込書）'!E8 -> 0 | G83: ='様式4（U20申込書）'!F8 -> 0 | H83: ='様式4（U20申込書）'!G8 -> 0 | I83: ='様式4（U20申込書）'!H8 | J83: ='様式4（U20申込書）'!I8 | ... S83: ='様式4（U20申込書）'!R8 -> 0
A84: ='様式4（U20申込書）'!A9 -> 4 | B84: =様式1!$A$5 | C84: ='様式4（U20申込書）'!B9 -> 0 | D84: ='様式4（U20申込書）'!C9 -> U20 | E84: ='様式4（U20申込書）'!D9 -> 0 | F84: ='様式4（U20申込書）'!E9 -> 0 | G84: ='様式4（U20申込書）'!F9 -> 0 | H84: ='様式4（U20申込書）'!G9 -> 0 | I84: ='様式4（U20申込書）'!H9 | J84: ='様式4（U20申込書）'!I9 | ... S84: ='様式4（U20申込書）'!R9 -> 0
A85: ='様式4（U20申込書）'!A10 -> 5 | B85: =様式1!$A$5 | C85: ='様式4（U20申込書）'!B10 -> 0 | D85: ='様式4（U20申込書）'!C10 -> U20 | E85: ='様式4（U20申込書）'!D10 -> 0 | F85: ='様式4（U20申込書）'!E10 -> 0 | G85: ='様式4（U20申込書）'!F10 -> 0 | H85: ='様式4（U20申込書）'!G10 -> 0 | I85: ='様式4（U20申込書）'!H10 | J85: ='様式4（U20申込書）'!I10 | ... S85: ='様式4（U20申込書）'!R10 -> 0
A86: ='様式4（U20申込書）'!A11 -> 6 | B86: =様式1!$A$5 | C86: ='様式4（U20申込書）'!B11 -> 0 | D86: ='様式4（U20申込書）'!C11 -> U20 | E86: ='様式4（U20申込書）'!D11 -> 0 | F86: ='様式4（U20申込書）'!E11 -> 0 | G86: ='様式4（U20申込書）'!F11 -> 0 | H86: ='様式4（U20申込書）'!G11 -> 0 | I86: ='様式4（U20申込書）'!H11 | J86: ='様式4（U20申込書）'!I11 | ... S86: ='様式4（U20申込書）'!R11 -> 0
A87: ='様式4（U20申込書）'!A12 -> 7 | B87: =様式1!$A$5 | C87: ='様式4（U20申込書）'!B12 -> 0 | D87: ='様式4（U20申込書）'!C12 -> U20 | E87: ='様式4（U20申込書）'!D12 -> 0 | F87: ='様式4（U20申込書）'!E12 -> 0 | G87: ='様式4（U20申込書）'!F12 -> 0 | H87: ='様式4（U20申込書）'!G12 -> 0 | I87: ='様式4（U20申込書）'!H12 | J87: ='様式4（U20申込書）'!I12 | ... S87: ='様式4（U20申込書）'!R12 -> 0
A88: ='様式4（U20申込書）'!A13 -> 8 | B88: =様式1!$A$5 | C88: ='様式4（U20申込書）'!B13 -> 0 | D88: ='様式4（U20申込書）'!C13 -> U20 | E88: ='様式4（U20申込書）'!D13 -> 0 | F88: ='様式4（U20申込書）'!E13 -> 0 | G88: ='様式4（U20申込書）'!F13 -> 0 | H88: ='様式4（U20申込書）'!G13 -> 0 | I88: ='様式4（U20申込書）'!H13 | J88: ='様式4（U20申込書）'!I13 | ... S88: ='様式4（U20申込書）'!R13 -> 0
A89: ='様式4（U20申込書）'!A14 -> 9 | B89: =様式1!$A$5 | C89: ='様式4（U20申込書）'!B14 -> 0 | D89: ='様式4（U20申込書）'!C14 -> U20 | E89: ='様式4（U20申込書）'!D14 -> 0 | F89: ='様式4（U20申込書）'!E14 -> 0 | G89: ='様式4（U20申込書）'!F14 -> 0 | H89: ='様式4（U20申込書）'!G14 -> 0 | I89: ='様式4（U20申込書）'!H14 | J89: ='様式4（U20申込書）'!I14 | ... S89: ='様式4（U20申込書）'!R14 -> 0
A90: ='様式4（U20申込書）'!A15 -> 10 | B90: =様式1!$A$5 | C90: ='様式4（U20申込書）'!B15 -> 0 | D90: ='様式4（U20申込書）'!C15 -> U20 | E90: ='様式4（U20申込書）'!D15 -> 0 | F90: ='様式4（U20申込書）'!E15 -> 0 | G90: ='様式4（U20申込書）'!F15 -> 0 | H90: ='様式4（U20申込書）'!G15 -> 0 | I90: ='様式4（U20申込書）'!H15 | J90: ='様式4（U20申込書）'!I15 | ... S90: ='様式4（U20申込書）'!R15 -> 0
A91: ='様式4（U20申込書）'!A16 -> 11 | B91: =様式1!$A$5 | C91: ='様式4（U20申込書）'!B16 -> 0 | D91: ='様式4（U20申込書）'!C16 -> U20 | E91: ='様式4（U20申込書）'!D16 -> 0 | F91: ='様式4（U20申込書）'!E16 -> 0 | G91: ='様式4（U20申込書）'!F16 -> 0 | H91: ='様式4（U20申込書）'!G16 -> 0 | I91: ='様式4（U20申込書）'!H16 | J91: ='様式4（U20申込書）'!I16 | ... S91: ='様式4（U20申込書）'!R16 -> 0
A92: ='様式4（U20申込書）'!A17 -> 12 | B92: =様式1!$A$5 | C92: ='様式4（U20申込書）'!B17 -> 0 | D92: ='様式4（U20申込書）'!C17 -> U20 | E92: ='様式4（U20申込書）'!D17 -> 0 | F92: ='様式4（U20申込書）'!E17 -> 0 | G92: ='様式4（U20申込書）'!F17 -> 0 | H92: ='様式4（U20申込書）'!G17 -> 0 | I92: ='様式4（U20申込書）'!H17 | J92: ='様式4（U20申込書）'!I17 | ... S92: ='様式4（U20申込書）'!R17 -> 0
... A110: ='様式4（U20申込書）'!A35 -> 30 | B110: =様式1!$A$5 | C110: ='様式4（U20申込書）'!B35 -> 0 | D110: ='様式4（U20申込書）'!C35 -> U20 | E110: ='様式4（U20申込書）'!D35 -> 0 | F110: ='様式4（U20申込書）'!E35 -> 0 | G110: ='様式4（U20申込書）'!F35 -> 0 | H110: ='様式4（U20申込書）'!G35 -> 0 | I110: ='様式4（U20申込書）'!H35 | J110: ='様式4（U20申込書）'!I35 | ... S110: ='様式4（U20申込書）'!R35 -> 0
